BEGIN:VCALENDAR
VERSION:2.0
PRODID:-//hacksw/handcal//NONSGML v1.0//EN
BEGIN:VEVENT
DTSTAMP:20260503T000000Z
DTSTART:20260503T000000Z
DTEND:20260503T020000Z

SUMMARY:We Them One's Comedy Tour 2026
DESCRIPTION:We Them One’s Comedy Tour returns to Jim Whelan Boardwalk Hall headlined by NAACP Award-winning actor and comedian Mike Epps and hosted by the “comedian’s comedian,” Tony T. Roberts.After selling out arenas and making more than half a million fans roar with laughter in 2025, the ultimate comedy experience is back—bigger, bolder, and wilder than ever.
END:VEVENT
END:VCALENDAR