BEGIN:VCALENDAR
VERSION:2.0
PRODID:-//hacksw/handcal//NONSGML v1.0//EN
BEGIN:VEVENT
DTSTAMP:20260725T230000Z
DTSTART:20260725T230000Z
DTEND:20260726T020000Z

SUMMARY:SHAKIRA - LAS MUJERES YA NO LLORAN WORLD TOUR
DESCRIPTION:Global superstar Shakira announces a special limited run of U.S. dates on her record-breaking Las Mujeres Ya No Lloran World Tour, giving fans a rare chance to see her electrifying production up close in more intimate arena settings this summer. This news follows the release of Shakira’s new single “ALGO TÚ” which features rising Colombian singer, Beéle.Shakira is a Colombian singer-songwriter and multi-GRAMMY® award winner. She has sold over 95 million records worldwide and has won numerous awards including four GRAMMYs®, fifteen Latin GRAMMYs®, and multiple World Music Awards, American Music Awards and Billboard Music Awards, to name a few. She is the most-viewed female Latin artist, and one of the top-10 artists of all time on YouTube with over 27 billion cumulative views, and the most-streamed female Latin artist of all time on Spotify.
END:VEVENT
END:VCALENDAR