BEGIN:VCALENDAR
VERSION:2.0
PRODID:-//hacksw/handcal//NONSGML v1.0//EN
BEGIN:VEVENT
DTSTAMP:20260614T000000Z
DTSTART:20260614T000000Z
DTEND:20260614T030000Z

SUMMARY:A Boogie Wit da Hoodie
DESCRIPTION:Multi-platinum artist A Boogie Wit da Hoodie is set to take the stage at Jim Whelan Boardwalk Hall in Atlantic City joined by special guests G Herbo and Hunxho for an unforgettable night of hip-hop.The performance comes on the heels of A Boogie’s newly released EP, Before Artistry, showcasing his continued evolution as one of the genre’s most influential voices. Known for his signature melodic style and global hits like “Drowning,” “Look Back at It,” and “Swervin,” A Boogie has amassed billions of streams and built a dedicated fanbase worldwide. Fans can expect a high-energy setlist featuring both chart-topping favorites and new music from Before Artistry.
END:VEVENT
END:VCALENDAR